BEGIN:VCALENDAR
PRODID:-//AT Content Types//AT Event//EN
VERSION:2.0
METHOD:PUBLISH
BEGIN:VEVENT
DTSTAMP:20260419T141841Z
CREATED:20151026T194140Z
UID:ATEvent-1b1ac561-1074-40f2-877c-d2c563058ad2
LAST-MODIFIED:20151026T194140Z
SUMMARY:FENCE Open Horse Show
DTSTART:20160409T130000Z
DTEND:20160409T210000Z
LOCATION:FENCE Equestrian Side
CATEGORIES:Schooling
CLASS:PUBLIC
END:VEVENT
END:VCALENDAR
