BEGIN:VCALENDAR
PRODID:-//AT Content Types//AT Event//EN
VERSION:2.0
METHOD:PUBLISH
BEGIN:VEVENT
DTSTAMP:20260423T105514Z
CREATED:20251217T183004Z
UID:ATEvent-9a4be77edc5d46e182c95dd359b0d84a
LAST-MODIFIED:20260122T192553Z
SUMMARY:FENCE Open Horse Show
DTSTART:20260926T120000Z
DTEND:20260926T210000Z
DESCRIPTION:An Open Horse Show is a fun\, welcoming competition where 
 riders of all ages and experience levels can shine. Classes range from
  hunter\, pleasure\, and equitation to trail and halter\, giving horse
 s and riders a chance to show off their style\, manners\, and teamwork
 . Whether you’re brand new or a seasoned exhibitor\, open shows cele
 brate good riding\, good horses\, and a great day in the arena.
CATEGORIES:Horse Show
CONTACT:horseshow@fence.org
CLASS:PUBLIC
END:VEVENT
END:VCALENDAR
