BEGIN:VCALENDAR
PRODID:-//AT Content Types//AT Event//EN
VERSION:2.0
METHOD:PUBLISH
BEGIN:VEVENT
DTSTAMP:20260423T142313Z
CREATED:20251217T163850Z
UID:ATEvent-f9a31c4ceee74aa2b1eda42556d6c9db
LAST-MODIFIED:20260122T192035Z
SUMMARY:FENCE Open Horse Show
DTSTART:20260530T120000Z
DTEND:20260530T200000Z
DESCRIPTION:An Open Horse Show is a fun\, welcoming competition where 
 riders of all ages and experience levels can shine. Classes range from
  hunter\, pleasure\, and equitation to trail and halter\, giving horse
 s and riders a chance to show off their style\, manners\, and teamwork
 . Whether you’re brand new or a seasoned exhibitor\, open shows cele
 brate good riding\, good horses\, and a great day in the arena.
CATEGORIES:Horse Show
CLASS:PUBLIC
END:VEVENT
END:VCALENDAR
