BEGIN:VCALENDAR
PRODID:-//AT Content Types//AT Event//EN
VERSION:2.0
METHOD:PUBLISH
BEGIN:VEVENT
DTSTAMP:20260423T191257Z
CREATED:20241219T205335Z
UID:ATEvent-2a7905d212234527b65ec250ad0221e7
LAST-MODIFIED:20241219T205335Z
SUMMARY:FENCE Open Horse Show
DTSTART:20250927T120000Z
DTEND:20250927T200000Z
LOCATION:FENCE Equestrian
CATEGORIES:Horse Show
CONTACT:info@fence.org
CLASS:PUBLIC
END:VEVENT
END:VCALENDAR
