BEGIN:VCALENDAR
PRODID:-//AT Content Types//AT Event//EN
VERSION:2.0
METHOD:PUBLISH
BEGIN:VEVENT
DTSTAMP:20260423T171036Z
CREATED:20230117T201622Z
UID:ATEvent-847fb0b7aa1f4ac595b2a7506b235fce
LAST-MODIFIED:20230117T201622Z
SUMMARY:FENCE Open Horse SHow
DTSTART:20230930T130000Z
DTEND:20230930T210000Z
LOCATION:FENCE Equestrian Side
CATEGORIES:Horse Show
CONTACT:Tracie Hanson\, 8288599021\, info@fence.org
CLASS:PUBLIC
END:VEVENT
END:VCALENDAR
