BEGIN:VCALENDAR
PRODID:-//AT Content Types//AT Event//EN
VERSION:2.0
METHOD:PUBLISH
BEGIN:VEVENT
DTSTAMP:20260423T115155Z
CREATED:20230117T195736Z
UID:ATEvent-fce3136d9e2b48769eb236c7d8176c6f
LAST-MODIFIED:20230117T195737Z
SUMMARY:FENCE Open Horse Show
DTSTART:20230506T130000Z
DTEND:20230506T210000Z
LOCATION:FENCE Equestrian Side
CATEGORIES:Horse Show
CONTACT:Tracie Hanson\, 8288599021\, info@fence.org
CLASS:PUBLIC
END:VEVENT
END:VCALENDAR
