BEGIN:VCALENDAR
PRODID:-//AT Content Types//AT Event//EN
VERSION:2.0
METHOD:PUBLISH
BEGIN:VEVENT
DTSTAMP:20260423T105227Z
CREATED:20250619T155142Z
UID:ATEvent-4069685d029e457cafdb4fa8d79a7ecb
LAST-MODIFIED:20250619T155142Z
SUMMARY:FENCE Offices Closed
DTSTART:20250901T040000Z
DTEND:20250902T035500Z
CATEGORIES:Office
CLASS:PUBLIC
END:VEVENT
END:VCALENDAR
