BEGIN:VCALENDAR
PRODID:-//AT Content Types//AT Event//EN
VERSION:1.0
BEGIN:VEVENT
DTSTART:20261221T130000Z
DTEND:20270101T220000Z
DCREATED:20260122T210713Z
UID:ATEvent-b1671e6fed7d404ca27cbfcc5f2b0a03
SEQUENCE:0
LAST-MODIFIED:20260122T210713Z
SUMMARY:FENCE Offices Closed
PRIORITY:3
TRANSP:0
END:VEVENT
END:VCALENDAR
