BEGIN:VCALENDAR
PRODID:-//AT Content Types//AT Event//EN
VERSION:1.0
BEGIN:VEVENT
DTSTART:20231219T050000Z
DTEND:20240103T045500Z
DCREATED:20230117T202840Z
UID:ATEvent-3ffc54f7b8fe43f090650cd8d39fe92e
SEQUENCE:0
LAST-MODIFIED:20230117T202840Z
SUMMARY:FENCE office closed for Holidays!
DESCRIPTION:Hiking Trails will remain open!
LOCATION:FENCE Center
PRIORITY:3
TRANSP:0
END:VEVENT
END:VCALENDAR
