BEGIN:VCALENDAR
PRODID:-//AT Content Types//AT Event//EN
VERSION:1.0
BEGIN:VEVENT
DTSTART:20241223T050000Z
DTEND:20250106T045500Z
DCREATED:20241030T201511Z
UID:ATEvent-304c8506461d4fce9ebbc6389c5c280f
SEQUENCE:0
LAST-MODIFIED:20241030T201511Z
SUMMARY:FENCE Office CLOSED
PRIORITY:3
TRANSP:0
END:VEVENT
END:VCALENDAR
