BEGIN:VCALENDAR
PRODID:-//AT Content Types//AT Event//EN
VERSION:2.0
METHOD:PUBLISH
BEGIN:VEVENT
DTSTAMP:20260423T115007Z
CREATED:20140103T200810Z
UID:ATEvent-fff33e1a-4158-44ef-856b-0dbdb9fcdf1a
LAST-MODIFIED:20140103T200811Z
SUMMARY:FENCE Office Closed
DTSTART:20140421T040000Z
DTEND:20140422T035500Z
CATEGORIES:Family
CLASS:PUBLIC
END:VEVENT
END:VCALENDAR
