BEGIN:VCALENDAR
PRODID:-//AT Content Types//AT Event//EN
VERSION:2.0
METHOD:PUBLISH
BEGIN:VEVENT
DTSTAMP:20260423T191052Z
CREATED:20231025T123015Z
UID:ATEvent-270a44e470d54b0f873a27a080a02953
LAST-MODIFIED:20231025T151637Z
SUMMARY:FENCE Hunter Pace
DTSTART:20231105T140000Z
DTEND:20231105T190000Z
DESCRIPTION:Entry Fee: $40 per rider\, $25 for Children 12 & Under\nIn
 cludes Lunch from Foothills BBQ\n\nDivisions: Field Hunter and Trail R
 ider   (jumps are optional)\nA Mini Pace is also being offered\n\nForm
 s can be found at: http://www.fence.org/equestrian-center/hunter-pace\
 nProtective Headgear Required & Current negative coggins\nAwards: 1st 
 – 6th Place ribbons in both divisions
LOCATION:FENCE Equestrian Side
CATEGORIES:Horse Show
CONTACT:Tracie Hanson\, 8288599021\, info@fence.org
CLASS:PUBLIC
END:VEVENT
END:VCALENDAR
