BEGIN:VCALENDAR
PRODID:-//AT Content Types//AT Event//EN
VERSION:1.0
BEGIN:VEVENT
DTSTART:20230507T130000Z
DTEND:20230507T180000Z
DCREATED:20230117T195812Z
UID:ATEvent-3ffc59ccba094601a240f3dc47a979df
SEQUENCE:0
LAST-MODIFIED:20230117T195812Z
SUMMARY:FENCE Hunter Pace
LOCATION:FENCE Equestrian Side
PRIORITY:3
TRANSP:0
END:VEVENT
END:VCALENDAR
