BEGIN:VCALENDAR
PRODID:-//AT Content Types//AT Event//EN
VERSION:1.0
BEGIN:VEVENT
DTSTART:20181118T140000Z
DTEND:20181118T190000Z
DCREATED:20180116T163136Z
UID:ATEvent-87ac9e3b88b44f1fba5dc0726a5bd318
SEQUENCE:0
LAST-MODIFIED:20181112T151617Z
SUMMARY:FENCE Hunter Pace - Rescheduled
DESCRIPTION:For the safety of the horses and humans\, FENCE has opted 
 to reschedule the Hunter Pace. Our fields and trails are too wet with 
 a lot more rain to come! We hope to see everyone in February for the r
 ain date.
LOCATION:FENCE Equestrian Side
PRIORITY:3
TRANSP:0
END:VEVENT
END:VCALENDAR
