BEGIN:VCALENDAR
PRODID:-//AT Content Types//AT Event//EN
VERSION:1.0
BEGIN:VEVENT
DTSTART:20180513T120000Z
DTEND:20180513T180000Z
DCREATED:20170830T154001Z
UID:ATEvent-8f3c3293bd394c0ab1deb722b08b0ec1
SEQUENCE:0
LAST-MODIFIED:20170830T154001Z
SUMMARY:FENCE Hunter Pace
LOCATION:FENCE Equestrian Side
PRIORITY:3
TRANSP:0
END:VEVENT
END:VCALENDAR
