BEGIN:VCALENDAR
PRODID:-//AT Content Types//AT Event//EN
VERSION:2.0
METHOD:PUBLISH
BEGIN:VEVENT
DTSTAMP:20260419T162423Z
CREATED:20151112T154739Z
UID:ATEvent-157e13ff-dd90-47fb-ba5a-d49dd7b8dd59
LAST-MODIFIED:20161006T205311Z
SUMMARY:FENCE Hunter Pace
DTSTART:20161106T140000Z
DTEND:20161106T190000Z
LOCATION:FENCE Equestrian Side
CATEGORIES:Schooling
CLASS:PUBLIC
END:VEVENT
END:VCALENDAR
