BEGIN:VCALENDAR
PRODID:-//AT Content Types//AT Event//EN
VERSION:1.0
BEGIN:VEVENT
DTSTART:20160221T210000Z
DTEND:20160221T220000Z
DCREATED:20151110T203136Z
UID:ATEvent-b1be1a7a-af54-4afc-a393-c76181040106
SEQUENCE:0
LAST-MODIFIED:20151110T203136Z
SUMMARY:FENCE Hunter Pace
LOCATION:FENCE Equestrian Side
PRIORITY:3
TRANSP:0
END:VEVENT
END:VCALENDAR
