BEGIN:VCALENDAR
PRODID:-//AT Content Types//AT Event//EN
VERSION:2.0
METHOD:PUBLISH
BEGIN:VEVENT
DTSTAMP:20260423T130927Z
CREATED:20260122T210443Z
UID:ATEvent-877d8090fa1341e59887a36134e82ccb
LAST-MODIFIED:20260122T210443Z
SUMMARY:FENCE Hunter Pace
DTSTART:20261108T150000Z
DTEND:20261108T210000Z
DESCRIPTION:A Hunter Pace is a relaxed\, scenic ride designed to mimic
  a day of foxhunting without the pressure of racing. Riders travel ove
 r a marked course of natural terrain and optional jumps\, aiming for a
  smooth\, steady pace rather than speed. It’s all about rhythm\, tea
 mwork\, and enjoying the countryside\, making Hunter Paces perfect for
  riders who love adventure with a laid-back\, social vibe.
CATEGORIES:Horse Show
CLASS:PUBLIC
END:VEVENT
END:VCALENDAR
