BEGIN:VCALENDAR
PRODID:-//AT Content Types//AT Event//EN
VERSION:2.0
METHOD:PUBLISH
BEGIN:VEVENT
DTSTAMP:20260423T130920Z
CREATED:20260122T192657Z
UID:ATEvent-478d3298e566449682cb1ad378e56aa6
LAST-MODIFIED:20260122T192657Z
SUMMARY:FENCE Hunter Pace
DTSTART:20260510T140000Z
DTEND:20260510T200000Z
DESCRIPTION:A Hunter Pace is a relaxed\, scenic ride designed to mimic
  a day of foxhunting without the pressure of racing. Riders travel ove
 r a marked course of natural terrain and optional jumps\, aiming for a
  smooth\, steady pace rather than speed. It’s all about rhythm\, tea
 mwork\, and enjoying the countryside\, making Hunter Paces perfect for
  riders who love adventure with a laid-back\, social vibe.
CATEGORIES:Horse Show
CLASS:PUBLIC
END:VEVENT
END:VCALENDAR
