BEGIN:VCALENDAR
PRODID:-//AT Content Types//AT Event//EN
VERSION:2.0
METHOD:PUBLISH
BEGIN:VEVENT
DTSTAMP:20260423T105206Z
CREATED:20150714T180417Z
UID:ATEvent-20120285-2b97-4e61-9528-8dc888d31a5c
LAST-MODIFIED:20150714T180418Z
SUMMARY:FENCE Hunter Pace
DTSTART:20151108T130000Z
DTEND:20151108T190000Z
LOCATION:FENCE Equestrian Side
CATEGORIES:Training
CLASS:PUBLIC
END:VEVENT
END:VCALENDAR
