BEGIN:VCALENDAR
PRODID:-//AT Content Types//AT Event//EN
VERSION:1.0
BEGIN:VEVENT
DTSTART:20140412T120000Z
DTEND:20140413T210000Z
DCREATED:20131204T214104Z
UID:ATEvent-68f86849-c8b0-4633-acd0-fe35d4147d9d
SEQUENCE:0
LAST-MODIFIED:20140409T181951Z
SUMMARY:FENCE Horse Trials
DESCRIPTION:We are gearing up for an exciting and successful Event. Th
 e Collegiate Team Challenge returns for a second year. We are proud to
  continue to the push to make eventing a college recognized sport. FEN
 CE Team Challenges return again\, too.
LOCATION:FENCE
PRIORITY:3
TRANSP:0
END:VEVENT
END:VCALENDAR
