BEGIN:VCALENDAR
PRODID:-//AT Content Types//AT Event//EN
VERSION:2.0
METHOD:PUBLISH
BEGIN:VEVENT
DTSTAMP:20260423T115208Z
CREATED:20200521T160902Z
UID:ATEvent-4da267fdd87d4787a4d294c28fa4c371
LAST-MODIFIED:20200521T160934Z
SUMMARY:FENCE Horse Trials
DTSTART:20200725T120000Z
DTEND:20200726T190000Z
LOCATION:FENCE Equestrian Side
CATEGORIES:Horse Show
CONTACT:Tracie Hanson\, 8288599021\, info@fence.org
CLASS:PUBLIC
END:VEVENT
END:VCALENDAR
