BEGIN:VCALENDAR
PRODID:-//AT Content Types//AT Event//EN
VERSION:1.0
BEGIN:VEVENT
DTSTART:20210417T120000Z
DTEND:20210418T210000Z
DCREATED:20210122T201510Z
UID:ATEvent-4f38fd0f0e60438cbe81ec13b9d4e215
SEQUENCE:0
LAST-MODIFIED:20210416T132705Z
SUMMARY:FENCE Horse Trials Rider Status and Ride Times
DESCRIPTION:Check rider status by clicking on that s link:\nhttps://fe
 nce.horseeventorganizer.com//EntryStatusList?Show=fence000169741&Raw=Y
 \n\nCheck here for rider times:\nhttps://fence.horseeventorganizer.com
 /RideTimes?Show=fence000169741
LOCATION:FENCE Equestrian Side
PRIORITY:3
TRANSP:0
END:VEVENT
END:VCALENDAR
