BEGIN:VCALENDAR
PRODID:-//AT Content Types//AT Event//EN
VERSION:2.0
METHOD:PUBLISH
BEGIN:VEVENT
DTSTAMP:20260423T142241Z
CREATED:20181016T194023Z
UID:ATEvent-1656e9dc009c4f75bdbe13cbbb7d3ee3
LAST-MODIFIED:20181016T194041Z
SUMMARY:FENCE Horse Trials
DTSTART:20190413T120000Z
DTEND:20190414T210000Z
CATEGORIES:Horse Show
CONTACT:Tracie Hanson\, 828-859-9021\, info@fence.org
CLASS:PUBLIC
END:VEVENT
END:VCALENDAR
