BEGIN:VCALENDAR
PRODID:-//AT Content Types//AT Event//EN
VERSION:2.0
METHOD:PUBLISH
BEGIN:VEVENT
DTSTAMP:20260423T105437Z
CREATED:20170830T153437Z
UID:ATEvent-139ce303dfe74a25be57e3e800ca6547
LAST-MODIFIED:20170830T153437Z
SUMMARY:FENCE Horse Trials
DTSTART:20180414T120000Z
DTEND:20180415T210000Z
LOCATION:FENCE Equestrian Side
CATEGORIES:Horse Show
CONTACT:Tracie Hanson\, 8288599021\, info@fence.org
CLASS:PUBLIC
END:VEVENT
END:VCALENDAR
