BEGIN:VCALENDAR
PRODID:-//AT Content Types//AT Event//EN
VERSION:1.0
BEGIN:VEVENT
DTSTART:20150411T040000Z
DTEND:20150412T160000Z
DCREATED:20150113T212631Z
UID:ATEvent-97870229-acec-4815-9314-793162b76ee5
SEQUENCE:0
LAST-MODIFIED:20150113T213818Z
SUMMARY:FENCE Horse Trials
LOCATION:FENCE Equestrian Side
PRIORITY:3
TRANSP:0
END:VEVENT
END:VCALENDAR
