BEGIN:VCALENDAR
PRODID:-//AT Content Types//AT Event//EN
VERSION:2.0
METHOD:PUBLISH
BEGIN:VEVENT
DTSTAMP:20260423T142134Z
CREATED:20251217T162904Z
UID:ATEvent-0ef0147b0b9e4c8f909c980df2ef5c6b
LAST-MODIFIED:20260122T191736Z
SUMMARY:FENCE Horse Trials
DTSTART:20260411T120000Z
DTEND:20260412T200000Z
DESCRIPTION:Horse Trials is an exciting equestrian sport\, also called
  eventing\, that blends three disciplines into one competition: dressa
 ge\, cross-country\, and show jumping. Riders and horses show precisio
 n and partnership in dressage\, courage and endurance over natural obs
 tacles on cross-country\, and accuracy in the stadium jumping round. T
 ogether\, these phases test skill\, trust\, and athleticism\, making H
 orse Trials one of the most dynamic and fun-to-watch horse sports arou
 nd.
CATEGORIES:Horse Show
CONTACT:horseshow@fence.org
CLASS:PUBLIC
END:VEVENT
END:VCALENDAR
