BEGIN:VCALENDAR
PRODID:-//AT Content Types//AT Event//EN
VERSION:2.0
METHOD:PUBLISH
BEGIN:VEVENT
DTSTAMP:20260423T115328Z
CREATED:20241115T162732Z
UID:ATEvent-9f342d3e7089441ca1543b24e69c9255
LAST-MODIFIED:20241219T152209Z
SUMMARY:FENCE Horse Trials
DTSTART:20250412T120000Z
DTEND:20250413T210000Z
LOCATION:FENCE Equestrian
CATEGORIES:Horse Show
CONTACT:8288599021\, info@fence.org
CLASS:PUBLIC
END:VEVENT
END:VCALENDAR
