BEGIN:VCALENDAR
PRODID:-//AT Content Types//AT Event//EN
VERSION:2.0
METHOD:PUBLISH
BEGIN:VEVENT
DTSTAMP:20260423T170957Z
CREATED:20230117T195240Z
UID:ATEvent-cbe3250e49d14d8481ee40294c5c33b8
LAST-MODIFIED:20230117T195240Z
SUMMARY:FENCE Horse Trials
DTSTART:20230415T120000Z
DTEND:20230416T210000Z
LOCATION:FENCE Equestrian Side
CATEGORIES:Horse Show
CONTACT:Tracie Hanson\, 8288599021\, info@fence.org
CLASS:PUBLIC
END:VEVENT
END:VCALENDAR
