BEGIN:VCALENDAR
PRODID:-//AT Content Types//AT Event//EN
VERSION:1.0
BEGIN:VEVENT
DTSTART:20130413T110000Z
DTEND:20130414T210000Z
DCREATED:20120926T130738Z
UID:ATEvent-bcf5dae8-5a1e-4c2e-b3a0-efdf362fb37c
SEQUENCE:0
LAST-MODIFIED:20130326T141819Z
SUMMARY:FENCE Horse Trials
DESCRIPTION:FENCE's Recognized Horse Trials are back again and better 
 than ever!  For updates and status please click on read more!!!!!!!!!!
 
LOCATION:EQ Side FENCE/X country Course
PRIORITY:3
TRANSP:0
END:VEVENT
END:VCALENDAR
