BEGIN:VCALENDAR
PRODID:-//AT Content Types//AT Event//EN
VERSION:1.0
BEGIN:VEVENT
DTSTART:20180611T123000Z
DTEND:20180615T163000Z
DCREATED:20170830T170419Z
UID:ATEvent-c09984b342404f2e843d3532abb45eaf
SEQUENCE:0
LAST-MODIFIED:20171114T180305Z
SUMMARY:FENCE Horse Camp
PRIORITY:3
TRANSP:0
END:VEVENT
END:VCALENDAR
