BEGIN:VCALENDAR
PRODID:-//AT Content Types//AT Event//EN
VERSION:2.0
METHOD:PUBLISH
BEGIN:VEVENT
DTSTAMP:20260423T115809Z
CREATED:20140226T030429Z
UID:ATEvent-c40d4a5f-9ec6-477e-917b-8777462aa4c2
LAST-MODIFIED:20140226T030505Z
SUMMARY:Fence Garage Sale
DTSTART:20140308T130000Z
DTEND:20140308T180000Z
DESCRIPTION:Join FENCE for our bi-annual garage sale held on the eques
 trian side. There is something for everyone!! Stall can be rented for 
 a small fee. Contact FENCE for more information.
LOCATION:Fence EQ Side
CATEGORIES:Family
CONTACT:Tracie Hanson\, 828-859-9021\, info@fence.org
CLASS:PUBLIC
END:VEVENT
END:VCALENDAR
