BEGIN:VCALENDAR
PRODID:-//AT Content Types//AT Event//EN
VERSION:2.0
METHOD:PUBLISH
BEGIN:VEVENT
DTSTAMP:20260419T161815Z
CREATED:20140103T195621Z
UID:ATEvent-07b833a7-d381-4953-8828-01fe35fa3b87
LAST-MODIFIED:20141010T152742Z
SUMMARY:FENCE Fall Hunter Pace
DTSTART:20141109T140000Z
DTEND:20141109T190000Z
CATEGORIES:Schooling
CONTACT:Tracie Hanson\, 828-859-9021\, admin@fence.org
CLASS:PUBLIC
END:VEVENT
END:VCALENDAR
