BEGIN:VCALENDAR
PRODID:-//AT Content Types//AT Event//EN
VERSION:1.0
BEGIN:VEVENT
DTSTART:20121111T150000Z
DTEND:20121111T190000Z
DCREATED:20120714T192009Z
UID:ATEvent-50084bc7-6b2e-4350-9e6a-0ed05a881d2d
SEQUENCE:0
LAST-MODIFIED:20121105T152651Z
SUMMARY:FENCE Fall Hunter Pace
DESCRIPTION:http://www.wchpace.org/
LOCATION:EQ Side FENCE
PRIORITY:3
TRANSP:0
END:VEVENT
END:VCALENDAR
