BEGIN:VCALENDAR
PRODID:-//AT Content Types//AT Event//EN
VERSION:2.0
METHOD:PUBLISH
BEGIN:VEVENT
DTSTAMP:20260420T235750Z
CREATED:20171114T180903Z
UID:ATEvent-48b0aca12591466fad0223a423ad3d79
LAST-MODIFIED:20180116T152722Z
SUMMARY:FENCE Environmental Day Camp
DTSTART:20180709T120000Z
DTEND:20180713T210000Z
LOCATION:FENCE Center
CATEGORIES:Childrens Day Camp
CONTACT:Tracie Hanson\, 8288599021\, info@fence.org
CLASS:PUBLIC
END:VEVENT
END:VCALENDAR
