BEGIN:VCALENDAR
PRODID:-//AT Content Types//AT Event//EN
VERSION:2.0
METHOD:PUBLISH
BEGIN:VEVENT
DTSTAMP:20260420T233557Z
CREATED:20200109T221247Z
UID:ATEvent-796b33b8270f45419919b1334e755f3c
LAST-MODIFIED:20200208T015456Z
SUMMARY:FENCE Environmental Camp
DTSTART:20200720T120000Z
DTEND:20200724T210000Z
DESCRIPTION:Environmental Camp runs from 8am-5pm daily. This camp focu
 ses on environmental themes. Campers will learn about a variety of top
 ics such as stream ecosystems\, wilderness survival\, native flora and
  fauna\, and much more. Activities will also include team building act
 ivities\, group games\, special guest presenters\, and hiking.  A morn
 ing and afternoon snack will be provided.
LOCATION:FENCE Center
CATEGORIES:Childrens Day Camp
CONTACT:Tracie Hanson\, 8288599021\, info@fence.org
URL:http://www.fence.org/nature-center/day-camps/applications-releases
CLASS:PUBLIC
END:VEVENT
END:VCALENDAR
