BEGIN:VCALENDAR
PRODID:-//AT Content Types//AT Event//EN
VERSION:1.0
BEGIN:VEVENT
DTSTART:20200606T120000Z
DTEND:20200607T210000Z
DCREATED:20190724T154405Z
UID:ATEvent-40f3555d1a6743bfb37b964f0dfd456d
SEQUENCE:0
LAST-MODIFIED:20200521T152640Z
SUMMARY:Canceled FENCE Dressage Show
LOCATION:FENCE Equestrian Side
PRIORITY:3
TRANSP:0
END:VEVENT
END:VCALENDAR
