BEGIN:VCALENDAR
PRODID:-//AT Content Types//AT Event//EN
VERSION:1.0
BEGIN:VEVENT
DTSTART:20230722T120000Z
DTEND:20230723T210000Z
DCREATED:20230117T200956Z
UID:ATEvent-8be166f57d8249919ba8abe41a3804aa
SEQUENCE:0
LAST-MODIFIED:20230531T182437Z
SUMMARY:FENCE Recognized Dressage Show
DESCRIPTION:Registration is open:  \n www.horseshowoffice.com
LOCATION:FENCE Equestrian Side
PRIORITY:3
TRANSP:0
END:VEVENT
END:VCALENDAR
