BEGIN:VCALENDAR
PRODID:-//AT Content Types//AT Event//EN
VERSION:1.0
BEGIN:VEVENT
DTSTART:20210605T120000Z
DTEND:20210606T210000Z
DCREATED:20210122T202146Z
UID:ATEvent-8f7a237e97c24299a95cb57d80d8fb83
SEQUENCE:0
LAST-MODIFIED:20210428T135300Z
SUMMARY:FENCE Dressage Show
LOCATION:FENCE Equestrian Side
PRIORITY:3
TRANSP:0
END:VEVENT
END:VCALENDAR
