BEGIN:VCALENDAR
PRODID:-//AT Content Types//AT Event//EN
VERSION:1.0
BEGIN:VEVENT
DTSTART:20080616T123000Z
DTEND:20080620T160000Z
DCREATED:20080507T015126Z
UID:ATEvent-a85576be-883b-489c-bc57-94ce96d26710
SEQUENCE:0
LAST-MODIFIED:20080507T015421Z
SUMMARY:FENCE Day Camp: Horse Camp!
DESCRIPTION:A week of activities learning about being around\, and car
 ing for\, horses.
LOCATION:FENCE Grounds
PRIORITY:3
TRANSP:0
END:VEVENT
END:VCALENDAR
