BEGIN:VCALENDAR
PRODID:-//AT Content Types//AT Event//EN
VERSION:2.0
METHOD:PUBLISH
BEGIN:VEVENT
DTSTAMP:20260423T170806Z
CREATED:20241031T122933Z
UID:ATEvent-a0a7eb83bed443c9a9180ca081a3de9c
LAST-MODIFIED:20241031T122933Z
SUMMARY:FENCE Closed Winter Break
DTSTART:20241223T050000Z
DTEND:20250106T045500Z
DESCRIPTION:FENCE office closed however hiking trails will remain open
  from dawn to dusk each day
CATEGORIES:Family
CLASS:PUBLIC
END:VEVENT
END:VCALENDAR
