BEGIN:VCALENDAR
PRODID:-//AT Content Types//AT Event//EN
VERSION:1.0
BEGIN:VEVENT
DTSTART:20160530T040000Z
DTEND:20160530T040000Z
DCREATED:20151026T195217Z
UID:ATEvent-3323b730-2ee8-4594-b0cd-54e874e2e0b6
SEQUENCE:0
LAST-MODIFIED:20151026T195217Z
SUMMARY:FENCE Closed for Memorial Day
PRIORITY:3
TRANSP:0
END:VEVENT
END:VCALENDAR
