BEGIN:VCALENDAR
PRODID:-//AT Content Types//AT Event//EN
VERSION:1.0
BEGIN:VEVENT
DTSTART:20211125T050000Z
DTEND:20211127T045500Z
DCREATED:20210122T182558Z
UID:ATEvent-60abbde5e5da41209b87cc2e8629fbd1
SEQUENCE:0
LAST-MODIFIED:20210122T182558Z
SUMMARY:FENCE Closed for Holiday
PRIORITY:3
TRANSP:0
END:VEVENT
END:VCALENDAR
