BEGIN:VCALENDAR
PRODID:-//AT Content Types//AT Event//EN
VERSION:2.0
METHOD:PUBLISH
BEGIN:VEVENT
DTSTAMP:20260423T130803Z
CREATED:20211213T164330Z
UID:ATEvent-90326b837b5b4ebfb2c0b95870f0b4c0
LAST-MODIFIED:20211213T164330Z
SUMMARY:FENCE Closed
DTSTART:20220418T040000Z
DTEND:20220419T035500Z
LOCATION:FENCE Center
CLASS:PUBLIC
END:VEVENT
END:VCALENDAR
