BEGIN:VCALENDAR
PRODID:-//AT Content Types//AT Event//EN
VERSION:1.0
BEGIN:VEVENT
DTSTART:20260907T040000Z
DTEND:20260908T035500Z
DCREATED:20251217T181503Z
UID:ATEvent-b16b98cadb1e40e18b0e3892750f927a
SEQUENCE:0
LAST-MODIFIED:20251217T181503Z
SUMMARY:FENCE Closed
PRIORITY:3
TRANSP:0
END:VEVENT
END:VCALENDAR
