BEGIN:VCALENDAR
PRODID:-//AT Content Types//AT Event//EN
VERSION:1.0
BEGIN:VEVENT
DTSTART:20260629T040000Z
DTEND:20260706T035500Z
DCREATED:20251217T180537Z
UID:ATEvent-58baefd0894d44c0b982ac349b56f58e
SEQUENCE:0
LAST-MODIFIED:20251217T180537Z
SUMMARY:FENCE Closed
PRIORITY:3
TRANSP:0
END:VEVENT
END:VCALENDAR
