BEGIN:VCALENDAR
PRODID:-//AT Content Types//AT Event//EN
VERSION:1.0
BEGIN:VEVENT
DTSTART:20260525T040000Z
DTEND:20260526T035500Z
DCREATED:20251217T163816Z
UID:ATEvent-78a884d688524235859863aa24cb1d77
SEQUENCE:0
LAST-MODIFIED:20251217T163816Z
SUMMARY:FENCE Closed
PRIORITY:3
TRANSP:0
END:VEVENT
END:VCALENDAR
