BEGIN:VCALENDAR
PRODID:-//AT Content Types//AT Event//EN
VERSION:2.0
METHOD:PUBLISH
BEGIN:VEVENT
DTSTAMP:20260423T130809Z
CREATED:20251217T162615Z
UID:ATEvent-ef7e70e3ef3a48a08b113e29972a2e63
LAST-MODIFIED:20251217T162615Z
SUMMARY:FENCE CLOSED
DTSTART:20260403T040000Z
DTEND:20260404T035500Z
CATEGORIES:Office
CLASS:PUBLIC
END:VEVENT
END:VCALENDAR
