BEGIN:VCALENDAR
PRODID:-//AT Content Types//AT Event//EN
VERSION:1.0
BEGIN:VEVENT
DTSTART:20221124T050000Z
DTEND:20221125T235500Z
DCREATED:20211213T173913Z
UID:ATEvent-0ece4212c1184d8997afe43baeffb24c
SEQUENCE:0
LAST-MODIFIED:20211213T173913Z
SUMMARY:FENCE Closed
LOCATION:FENCE Center
PRIORITY:3
TRANSP:0
END:VEVENT
END:VCALENDAR
