BEGIN:VCALENDAR
PRODID:-//AT Content Types//AT Event//EN
VERSION:2.0
METHOD:PUBLISH
BEGIN:VEVENT
DTSTAMP:20260423T114825Z
CREATED:20211213T171546Z
UID:ATEvent-068c80f295d14ac2ad38b60ec9a75b7c
LAST-MODIFIED:20211213T171546Z
SUMMARY:FENCE Closed
DTSTART:20220704T110000Z
DTEND:20220708T220000Z
LOCATION:FENCE Center
CLASS:PUBLIC
END:VEVENT
END:VCALENDAR
